BEGIN:VCALENDAR
VERSION:2.0
PRODID:-//United Adaptive Soccer Association - ECPv6.15.20//NONSGML v1.0//EN
CALSCALE:GREGORIAN
METHOD:PUBLISH
X-ORIGINAL-URL:https://unitedadaptivesoccer.com
X-WR-CALDESC:Events for United Adaptive Soccer Association
REFRESH-INTERVAL;VALUE=DURATION:PT1H
X-Robots-Tag:noindex
X-PUBLISHED-TTL:PT1H
BEGIN:VTIMEZONE
TZID:America/Los_Angeles
BEGIN:DAYLIGHT
TZOFFSETFROM:-0800
TZOFFSETTO:-0700
TZNAME:PDT
DTSTART:20240310T100000
END:DAYLIGHT
BEGIN:STANDARD
TZOFFSETFROM:-0700
TZOFFSETTO:-0800
TZNAME:PST
DTSTART:20241103T090000
END:STANDARD
BEGIN:DAYLIGHT
TZOFFSETFROM:-0800
TZOFFSETTO:-0700
TZNAME:PDT
DTSTART:20250309T100000
END:DAYLIGHT
BEGIN:STANDARD
TZOFFSETFROM:-0700
TZOFFSETTO:-0800
TZNAME:PST
DTSTART:20251102T090000
END:STANDARD
BEGIN:DAYLIGHT
TZOFFSETFROM:-0800
TZOFFSETTO:-0700
TZNAME:PDT
DTSTART:20260308T100000
END:DAYLIGHT
BEGIN:STANDARD
TZOFFSETFROM:-0700
TZOFFSETTO:-0800
TZNAME:PST
DTSTART:20261101T090000
END:STANDARD
END:VTIMEZONE
BEGIN:VEVENT
DTSTART;TZID=America/Los_Angeles:20251211T080000
DTEND;TZID=America/Los_Angeles:20251214T170000
DTSTAMP:20260423T114813
CREATED:20251201T231614Z
LAST-MODIFIED:20251201T231618Z
UID:4490-1765440000-1765731600@unitedadaptivesoccer.com
SUMMARY:UASA Adaptive Soccer Education Event in Seattle\, WA
DESCRIPTION:UASA’s national Adaptive Soccer Education Event brings together coaches\, referees\, pathway leaders\, and adaptive sport professionals from across the country for one of the most collaborative disability soccer gatherings in the U.S. Hosted in partnership with U.S. Soccer and Explore Seattle Southside\, the event provides cross-pathway education for Amputee\, Dwarf\, Power\, IDD\, Blind\, and Deaf Soccer. \n\n\n\nHeld over multiple days at Starfire Sports in Tukwila\, the program includes: \n\n\n\n\nAmputee Soccer Referee Education\n\n\n\nPower Soccer Referee Education\n\n\n\nU.S. Soccer Grassroots Adaptive Coaching Education\n\n\n\nIntegrated player practicums and cross-disability training environments\n\n\n\n\nThe Education Event supports UASA’s mission to raise national standards\, expand inclusive coaching models\, and strengthen disability soccer pathways ahead of World Cup 2026.
URL:https://unitedadaptivesoccer.com/event/uasa-adaptive-soccer-education-event-in-seattle-wa/
END:VEVENT
BEGIN:VEVENT
DTSTART;TZID=America/Los_Angeles:20251213T150000
DTEND;TZID=America/Los_Angeles:20251213T173000
DTSTAMP:20260423T114813
CREATED:20251201T231116Z
LAST-MODIFIED:20251201T231118Z
UID:4482-1765638000-1765647000@unitedadaptivesoccer.com
SUMMARY:Blind Soccer Clinic in Seattle\, WA
DESCRIPTION:On Saturday\, December 13\, 2025\, U.S. Association of Blind Athletes (USABA) and SeattleFWC26 are hosting a free Blind Soccer Clinic at Arena Sports Magnuson (7751 63rd Ave NE\, Seattle) from 3:00–5:30 PM. \n\n\n\nThe clinic offers a unique opportunity to experience Blind Soccer — a fast-paced\, adapted version of soccer designed for players who are blind or have low vision. The event will include hands-on drills for blind and low-vision athletes\, participation options for sighted goalkeepers or guides\, and an information session for coaches\, referees\, PE teachers\, recreation leaders\, and community partners. A demonstration by members of the U.S. Blind Soccer National Team will also take place\, giving attendees a first-hand look at how the sport is played at a national level. \n\n\n\nThis clinic is open to all levels and backgrounds – whether you are a visually impaired player\, a sighted goalkeeper or guide\, a coach or referee\, a recreation leader\, or someone just curious about adaptive soccer. The goal is to build local awareness\, grow participation\, and strengthen the inclusive soccer community in Seattle and across the Pacific Northwest. \n\n\n\nRegistration is required (spots are limited). For more information and to reserve your spot\, visit: seattlefwc26.org/blind-soccer-clinic. \n\n\n\nAccessibility is a priority – the venue offers step-free access\, service animals are welcome\, and interpretation is available with advance notice. \n\n\n\nBy hosting this clinic\, USABA and SeattleFWC26 aim to help expand access to sport and recreation for people who are blind or visually impaired\, and to bring inclusive\, adaptive soccer opportunities to our region.
URL:https://unitedadaptivesoccer.com/event/blind-soccer-clinic-in-seattle-wa/
LOCATION:Arena Sports Magnuson\, 7751 63rd Ave NE\, Seattle\, Washington\, 98115\, United States
END:VEVENT
BEGIN:VEVENT
DTSTART;TZID=America/Los_Angeles:20251214T093000
DTEND;TZID=America/Los_Angeles:20251214T113000
DTSTAMP:20260423T114813
CREATED:20251201T232318Z
LAST-MODIFIED:20251201T232321Z
UID:4492-1765704600-1765711800@unitedadaptivesoccer.com
SUMMARY:Community Adaptive Soccer Clinic in Seattle\, WA
DESCRIPTION:To close the Education Event weekend\, UASA will host a Sunday Community Adaptive Soccer Clinic designed for local athletes with any disability. This welcoming session offers an introduction to adaptive soccer through hands-on activities\, small-sided games\, and demonstrations from national pathway coaches and players. \n\n\n\nAthletes of all experience levels – whether new to the sport or returning – are encouraged to join. The clinic also provides opportunities for families\, community programs\, and recreation partners to learn how to support inclusive soccer in their own communities. \n\n\n\nThe goal of this Sunday session is simple: create access\, spark interest\, and connect Seattle-area athletes to the growing world of adaptive soccer.
URL:https://unitedadaptivesoccer.com/event/community-adaptive-soccer-clinic-in-seattle-wa/
END:VEVENT
END:VCALENDAR