BEGIN:VCALENDAR
VERSION:2.0
PRODID:-//United Adaptive Soccer Association - ECPv6.15.20//NONSGML v1.0//EN
CALSCALE:GREGORIAN
METHOD:PUBLISH
X-ORIGINAL-URL:https://unitedadaptivesoccer.com
X-WR-CALDESC:Events for United Adaptive Soccer Association
REFRESH-INTERVAL;VALUE=DURATION:PT1H
X-Robots-Tag:noindex
X-PUBLISHED-TTL:PT1H
BEGIN:VTIMEZONE
TZID:America/Los_Angeles
BEGIN:DAYLIGHT
TZOFFSETFROM:-0800
TZOFFSETTO:-0700
TZNAME:PDT
DTSTART:20240310T100000
END:DAYLIGHT
BEGIN:STANDARD
TZOFFSETFROM:-0700
TZOFFSETTO:-0800
TZNAME:PST
DTSTART:20241103T090000
END:STANDARD
BEGIN:DAYLIGHT
TZOFFSETFROM:-0800
TZOFFSETTO:-0700
TZNAME:PDT
DTSTART:20250309T100000
END:DAYLIGHT
BEGIN:STANDARD
TZOFFSETFROM:-0700
TZOFFSETTO:-0800
TZNAME:PST
DTSTART:20251102T090000
END:STANDARD
BEGIN:DAYLIGHT
TZOFFSETFROM:-0800
TZOFFSETTO:-0700
TZNAME:PDT
DTSTART:20260308T100000
END:DAYLIGHT
BEGIN:STANDARD
TZOFFSETFROM:-0700
TZOFFSETTO:-0800
TZNAME:PST
DTSTART:20261101T090000
END:STANDARD
END:VTIMEZONE
BEGIN:VEVENT
DTSTART;VALUE=DATE:20250227
DTEND;VALUE=DATE:20250303
DTSTAMP:20260423T234322
CREATED:20250205T002246Z
LAST-MODIFIED:20250205T002246Z
UID:1811-1740614400-1740959999@unitedadaptivesoccer.com
SUMMARY:U.S. Soccer Federation Annual General Meeting
DESCRIPTION:The 2025 Annual General Meeting (AGM) will take place at the Atlanta Marriott Marquis in Atlanta\, GA from February 27-March 2\, 2025.  Schedule information is now available at http://www.ussocceragm.com/schedule.
URL:https://unitedadaptivesoccer.com/event/u-s-soccer-federation-annual-general-meeting/
LOCATION:Atlanta Marriott Marquis\, 265 Peachtree Center Ave NE\, Atlanta\, GA\, 30303\, United States
ATTACH;FMTTYPE=image/jpeg:https://unitedadaptivesoccer.com/wp-content/uploads/2025/02/agm.jpg
END:VEVENT
BEGIN:VEVENT
DTSTART;VALUE=DATE:20250303
DTEND;VALUE=DATE:20250308
DTSTAMP:20260423T234322
CREATED:20250205T005156Z
LAST-MODIFIED:20250205T005156Z
UID:1824-1740960000-1741391999@unitedadaptivesoccer.com
SUMMARY:Move United Education Conference
DESCRIPTION:This year’s conference invites sport providers to gather over a common interest in ensuring athletes with disabilities have access to sport. Anticipating 400+ attendees at the event\, discussion will center around improving access to sport and recreation for individuals with disabilities. The event will feature pre-conference workshops\, 30\, 60 and 90 minute educational sessions and workshops\, roundtable discussions\, research poster displays\, socials\, an exhibitor hall\, and more. Educational sessions will fall under one of the following tracks: \n\nSport-Specific Instruction\nNon-Profit Management\n\nExecutive-Director/Organization Leadership sub-track\n\n\nInclusion in Schools & Universities\nIntersections with Medical Professionals\nGeneral\n\nAll attendees can follow a specific category track or choose their own adventure!
URL:https://unitedadaptivesoccer.com/event/move-united-education-conference/
LOCATION:National Ability Center Campus\, 1000 Ability Way\, Park City\, UT\, 84060\, United States
ATTACH;FMTTYPE=image/png:https://unitedadaptivesoccer.com/wp-content/uploads/2025/02/MoveUnited_Education_Conference_FullColor-2-768x416-1.png
END:VEVENT
BEGIN:VEVENT
DTSTART;VALUE=DATE:20250307
DTEND;VALUE=DATE:20250310
DTSTAMP:20260423T234322
CREATED:20250205T003137Z
LAST-MODIFIED:20250205T003153Z
UID:1817-1741305600-1741564799@unitedadaptivesoccer.com
SUMMARY:Wyoming Soccer Association Annual General Meeting
DESCRIPTION:In addition to Jay DeMerit\, we will have a full day of informational and educational workshops to benefit all Wyoming Soccer stakeholders\, whether you are a parent\, player\, coach\, referee\, administrator\, board member or volunteer\, you will leave feeling enriched! We will have the complete schedule and line up published soon! \nWe want to know how many people to expect so we can ensure the event is setup to run as smooth as possible. Please let us know you are planning to come. The Wyoming AGM is open to ALL Wyoming Soccer Members… We welcome each and every one of you!
URL:https://unitedadaptivesoccer.com/event/wyoming-soccer-association-annual-general-meeting/
LOCATION:Hilton Garden Inn\, 1150 North Poplar Street\, Casper\, WY\, 82601\, United States
ATTACH;FMTTYPE=image/webp:https://unitedadaptivesoccer.com/wp-content/uploads/2025/02/wyoming-agm.webp
END:VEVENT
BEGIN:VEVENT
DTSTART;VALUE=DATE:20250319
DTEND;VALUE=DATE:20250324
DTSTAMP:20260423T234322
CREATED:20250205T004316Z
LAST-MODIFIED:20250205T004316Z
UID:1821-1742342400-1742774399@unitedadaptivesoccer.com
SUMMARY:U.S. Soccer Federation ADAPTandTHRIVE Invitational
DESCRIPTION:This will be the fourth year of our ADAPTandTHRIVE Invitational\, and we are thrilled to continue providing a unique opportunity for integration across several of our Extended National Teams (ENTs) as well as our member programs. This year\, we will host the following four ENTs\, who will be running their training camps in parallel throughout the event: \n\nWomen’s CP National Team\nWomen’s Deaf National Team\nMen’s Deaf National Team\nPower Soccer National Team
URL:https://unitedadaptivesoccer.com/event/u-s-soccer-federation-adaptandthrive-invitational/
LOCATION:McCurry Park\, 185 McDonough Rd\, Fayetteville\, GA\, 30215\, United States
END:VEVENT
END:VCALENDAR