BEGIN:VCALENDAR
VERSION:2.0
PRODID:-//United Adaptive Soccer Association - ECPv6.15.20//NONSGML v1.0//EN
CALSCALE:GREGORIAN
METHOD:PUBLISH
X-WR-CALNAME:United Adaptive Soccer Association
X-ORIGINAL-URL:https://unitedadaptivesoccer.com
X-WR-CALDESC:Events for United Adaptive Soccer Association
REFRESH-INTERVAL;VALUE=DURATION:PT1H
X-Robots-Tag:noindex
X-PUBLISHED-TTL:PT1H
BEGIN:VTIMEZONE
TZID:America/Los_Angeles
BEGIN:DAYLIGHT
TZOFFSETFROM:-0800
TZOFFSETTO:-0700
TZNAME:PDT
DTSTART:20230312T100000
END:DAYLIGHT
BEGIN:STANDARD
TZOFFSETFROM:-0700
TZOFFSETTO:-0800
TZNAME:PST
DTSTART:20231105T090000
END:STANDARD
BEGIN:DAYLIGHT
TZOFFSETFROM:-0800
TZOFFSETTO:-0700
TZNAME:PDT
DTSTART:20240310T100000
END:DAYLIGHT
BEGIN:STANDARD
TZOFFSETFROM:-0700
TZOFFSETTO:-0800
TZNAME:PST
DTSTART:20241103T090000
END:STANDARD
BEGIN:DAYLIGHT
TZOFFSETFROM:-0800
TZOFFSETTO:-0700
TZNAME:PDT
DTSTART:20250309T100000
END:DAYLIGHT
BEGIN:STANDARD
TZOFFSETFROM:-0700
TZOFFSETTO:-0800
TZNAME:PST
DTSTART:20251102T090000
END:STANDARD
BEGIN:DAYLIGHT
TZOFFSETFROM:-0800
TZOFFSETTO:-0700
TZNAME:PDT
DTSTART:20260308T100000
END:DAYLIGHT
BEGIN:STANDARD
TZOFFSETFROM:-0700
TZOFFSETTO:-0800
TZNAME:PST
DTSTART:20261101T090000
END:STANDARD
END:VTIMEZONE
BEGIN:VEVENT
DTSTART;VALUE=DATE:20250115
DTEND;VALUE=DATE:20250118
DTSTAMP:20260423T171229
CREATED:20250205T000937Z
LAST-MODIFIED:20250205T000937Z
UID:1807-1736899200-1737158399@unitedadaptivesoccer.com
SUMMARY:Compete Sports Diversity Winter Membership Conference
DESCRIPTION:Join us in Las Vegas for our Winter Membership Conference. The event brings together Sport Organizers\, Small Businesses\, Travel and Tourism Partners\, and Community and Corporate Partners in an intimate setting to build strong business connections\, create growth opportunities\, and help further Sports For All!
URL:https://unitedadaptivesoccer.com/event/compete-sports-diversity-winter-membership-conference/
LOCATION:Flamingo Las Vegas | Savoy Ballroom\, 3555 Las Vegas Blvd S\, Las Vegas\, NV\, 89109\, United States
END:VEVENT
BEGIN:VEVENT
DTSTART;VALUE=DATE:20250108
DTEND;VALUE=DATE:20250113
DTSTAMP:20260423T171229
CREATED:20250205T000300Z
LAST-MODIFIED:20250205T002402Z
UID:1803-1736294400-1736726399@unitedadaptivesoccer.com
SUMMARY:United Soccer Coaches Convention
DESCRIPTION:The 2025 United Soccer Coaches Convention takes place January 8–12\, 2025\, in Chicago\, IL. Known as the “World’s Largest Annual Gathering of Soccer Coaches\,” it features networking\, field demos\, panels\, classroom sessions\, and an Exhibit Hall with top soccer equipment\, technology\, and training resources. \nDon’t miss out on this unique chance to enhance your coaching skills and connect with the soccer community!
URL:https://unitedadaptivesoccer.com/event/united-soccer-coaches-convention/
LOCATION:McCormick Place Convention Center\, 2301 S King Dr\, Chicago\, IL\, 60616\, United States
ATTACH;FMTTYPE=image/png:https://unitedadaptivesoccer.com/wp-content/uploads/2025/02/websitehero.png
END:VEVENT
BEGIN:VEVENT
DTSTART;TZID=America/Los_Angeles:20241013T110000
DTEND;TZID=America/Los_Angeles:20241013T140000
DTSTAMP:20260423T171229
CREATED:20240919T020315Z
LAST-MODIFIED:20240926T024214Z
UID:772-1728817200-1728828000@unitedadaptivesoccer.com
SUMMARY:Adaptive Soccer Clinic October 2024
DESCRIPTION:Join United Adaptive Soccer Association (UASA) on October 13th at the American Amputee Soccer Association (AASA) Cup for an inclusive clinic for players of any age and disability category. UASA and AASA will host two sessions\, one targeting youth and players who need more support\, especially those without limb difference. The other session will serve those nearing/in adulthood looking for more opportunities to engage with the game as well as players with limb difference. \nParticipating players will engage in one of two sessions: \n\n11:00 to 12:00 PM\, Session 1: for players with any category of disability looking for a fun training environment to exist on the pitch however works best for them. Players in this category are generally aged four to adulthood who are new to soccer and/or have complex support needs that are best served by a recreation environment. *Best for players using walkers\, gait trainers\, and wheelchairs.\n1:00 to 2:00 PM\, Session 2: for players with specific disabilities\, able and ready to participate in organized game models adapted for their specific needs. Players in this category are generally teens through adulthood interested in pursuing competitive and elite-level play.\n\nClick here to register \nPlayer Packet and please note that this packet will always contain latest information  \nQuestions? Email info@unitedadaptivesoccer.com.
URL:https://unitedadaptivesoccer.com/event/adaptive-soccer-clinic-october-2024/
LOCATION:Shady Hill School\, 178 Coolidge Hill Rd\, Cambridge\, MA\, 02138\, United States
CATEGORIES:UASA Clinic
ATTACH;FMTTYPE=image/png:https://unitedadaptivesoccer.com/wp-content/uploads/2024/09/post15.png
ORGANIZER;CN="United Adaptive Soccer Association (UASA)":MAILTO:info@unitedadaptivesoccer.com
END:VEVENT
BEGIN:VEVENT
DTSTART;TZID=America/Los_Angeles:20240921T141500
DTEND;TZID=America/Los_Angeles:20240921T153000
DTSTAMP:20260423T171229
CREATED:20240906T201431Z
LAST-MODIFIED:20240906T202928Z
UID:732-1726928100-1726932600@unitedadaptivesoccer.com
SUMMARY:2024 US Youth Soccer Grassroots Symposium: Workshop Session
DESCRIPTION:We are proud to announce that our very own Joslynn Bigelow will be speaking at the 2024 US Youth Soccer Grassroots Symposium in Salt Lake City\, Utah. Joining her will be Hall of Famer and Paralympian Josh McKinney\, as well as Kendra Halterman\, Executive Director of Beyond Sport and the USA Deaf Soccer Association. \nWhile this event is not geared to the general public\, we strongly encourage those involved with soccer-based youth-serving organizations or organizations that run soccer programming to attend. This is an incredible opportunity to engage with leaders in the field and gain valuable insights.
URL:https://unitedadaptivesoccer.com/event/2024-us-youth-soccer-grassroots-symposium-workshop-session/
LOCATION:UT
ATTACH;FMTTYPE=image/png:https://unitedadaptivesoccer.com/wp-content/uploads/2024/09/Adaptive-Soccer-Orgs-GS-speaker-panel.png
END:VEVENT
BEGIN:VEVENT
DTSTART;VALUE=DATE:20240830
DTEND;VALUE=DATE:20240902
DTSTAMP:20260423T171229
CREATED:20240720T201646Z
LAST-MODIFIED:20240807T002252Z
UID:700-1724976000-1725235199@unitedadaptivesoccer.com
SUMMARY:Adaptive Soccer Camp August 2024
DESCRIPTION:Join United Adaptive Soccer Association (UASA) for our Second Annual Adaptive Soccer Camp! \n🗓️ Dates: Labor Day Weekend\, August 30th – September 1st\n📍 Location: Beaverton\, Oregon \nWe are excited to welcome players to train at one of Oregon’s premier soccer facilities\, featuring five state-of-the-art fields and six full-sized basketball courts for futsal and power sports. Participants will have the opportunity to learn from professional adaptive soccer staff and U.S. Soccer’s Extended National Team players. \nTraining Pathways: \nPerformance Pathway: \n\nEligibility: Players with specific disabilities\, aged teen through adulthood\nFocus: Competitive play\nDetails: Six training sessions over three days\, including meals\, lodging\, kit\, and more!\n\nParticipation Pathway: \n\nEligibility: Players with any category of disability\, aged four through adulthood\nFocus: Recreational environment\nDetails: One training session per day for three days\, including kit and more!\n\nThis camp offers a unique opportunity for players to train among peers with similar disabilities\, fostering both grassroots and elite levels of play. \nJoin us for an unforgettable weekend of adaptive soccer\, skill-building\, and fun! \n\n\n\n	\n				\n			\n			\nDownload our information packet\, which covers the event overview\, staff/points of contact\, location\, airport\, transportation\, venue details\, lodging options\, schedule\, and FAQs. \n		\n					\n\n	\n\n	\n				\n			\n			\n\n		Player Information packet\n	\n\n		\n					\n\n	\n\n\n	\n		\n\n	\n	\n\n\n	\n				\n			\n			\nUnited Adaptive Soccer Association (UASA) complies with applicable Federal civil rights laws and does not discriminate on the basis of race\, color\, national origin\, age\, disability\, or sex (including pregnancy\, sexual orientation\, and gender identity). \nRegistration now open \n\n		Sign up here
URL:https://unitedadaptivesoccer.com/event/adaptive-soccer-camp-august-2024/
LOCATION:Tualatin Hills Athletic Center\, 15707 Walker Rd\, Beaverton\, OR\, 97006\, United States
CATEGORIES:UASA Camp
ATTACH;FMTTYPE=image/png:https://unitedadaptivesoccer.com/wp-content/uploads/2024/07/thprd-August-Event.png
ORGANIZER;CN="United Adaptive Soccer Association (UASA)":MAILTO:info@unitedadaptivesoccer.com
END:VEVENT
BEGIN:VEVENT
DTSTART;VALUE=DATE:20240815
DTEND;VALUE=DATE:20240821
DTSTAMP:20260423T171229
CREATED:20240921T154728Z
LAST-MODIFIED:20240921T155807Z
UID:819-1723680000-1724198399@unitedadaptivesoccer.com
SUMMARY:2024 USPSA Power Soccer Family Camp
DESCRIPTION:
URL:https://unitedadaptivesoccer.com/event/2024-uspsa-power-soccer-family-camp/
LOCATION:True Friends Camp Courage\, 8046 83rd St NW\, Maple Lake\, MN\, 55358\, United States
CATEGORIES:USPSA Event
ORGANIZER;CN="United States Power Soccer Association (USPSA)":MAILTO:steve@powersoccerusa.org
END:VEVENT
BEGIN:VEVENT
DTSTART;VALUE=DATE:20240801
DTEND;VALUE=DATE:20240802
DTSTAMP:20260423T171229
CREATED:20240730T162540Z
LAST-MODIFIED:20240730T162540Z
UID:722-1722470400-1722556799@unitedadaptivesoccer.com
SUMMARY:Adaptive Soccer Camp August Zoom Q&A
DESCRIPTION:📢 Join us for a Zoom Q&A Session about the Oregon Adaptive Soccer Camp! 🏆⚽️\nGot questions about the upcoming Oregon Adaptive Soccer Camp hosted by United Adaptive Soccer Association (UASA)? We’re here to help!\n🗓️ Date: Labor Day Weekend\, August 30th – September 1st\n📍 Location: Beaverton\, Oregon\nWe have two Zoom meeting options for you:\n🕐 1:00 PM Pacific Time / 4:00 PM Eastern Time\n🕔 5:00 PM Pacific Time / 8:00 PM Eastern Time\nDuring the Zoom sessions\, you can learn about the camp location\, transportation\, venue\, lodging\, schedule\, and more!\n🔗 https://us02web.zoom.us/j/89031752552\nDon’t miss out on this chance to get all your questions answered and get ready for an unforgettable weekend of adaptive soccer!\n#UASA #AdaptiveSoccer #InclusiveSports #SoccerForAll #OregonSoccerCamp #Beaverton #AdaptiveAthlete #ZoomMeeting
URL:https://unitedadaptivesoccer.com/event/adaptive-soccer-camp-august-zoom-qa/
LOCATION:UT
CATEGORIES:UASA Q&A
ATTACH;FMTTYPE=image/png:https://unitedadaptivesoccer.com/wp-content/uploads/2024/07/thprd-August-qa-post-1.png
END:VEVENT
BEGIN:VEVENT
DTSTART;VALUE=DATE:20240713
DTEND;VALUE=DATE:20240714
DTSTAMP:20260423T171229
CREATED:20240704T163713Z
LAST-MODIFIED:20240718T020629Z
UID:640-1720828800-1720915199@unitedadaptivesoccer.com
SUMMARY:Adaptive Soccer Clinic July 2024
DESCRIPTION:Join United Adaptive Soccer Association (UASA) on July 13th at Soccer Fest in Greensboro\, North Carolina for an inclusive clinic for players of any age and disability category. U.S. Adult Soccer Association (USASA) will host two sessions\, one targeting youth and players who need more support. The other session will serve those nearing/in adulthood looking for more opportunities to engage with the game.
URL:https://unitedadaptivesoccer.com/event/adaptive-soccer-clinic-july-2024/
LOCATION:Bryan Park Soccer Complex\, 6105 Townsend Rd\, Browns Summit\, NC\, 27214\, United States
CATEGORIES:UASA Clinic
ATTACH;FMTTYPE=image/jpeg:https://unitedadaptivesoccer.com/wp-content/uploads/2024/07/Adaptive-Soccer-Clinic-NC-scaled.jpg
ORGANIZER;CN="United Adaptive Soccer Association (UASA)":MAILTO:info@unitedadaptivesoccer.com
END:VEVENT
BEGIN:VEVENT
DTSTART;VALUE=DATE:20240621
DTEND;VALUE=DATE:20240627
DTSTAMP:20260423T171229
CREATED:20240921T161221Z
LAST-MODIFIED:20240921T161353Z
UID:827-1718928000-1719446399@unitedadaptivesoccer.com
SUMMARY:2024 Midwest Regional Championships
DESCRIPTION:
URL:https://unitedadaptivesoccer.com/event/2024-midwest-regional-championships/
LOCATION:UT
CATEGORIES:USYS TOPSoccer Event
ORGANIZER;CN="US Youth Soccer (USYS) TOPSoccer":MAILTO:drobinson@usyouthsoccer.org
END:VEVENT
BEGIN:VEVENT
DTSTART;VALUE=DATE:20240613
DTEND;VALUE=DATE:20240617
DTSTAMP:20260423T171229
CREATED:20240921T155326Z
LAST-MODIFIED:20240921T155752Z
UID:823-1718236800-1718582399@unitedadaptivesoccer.com
SUMMARY:2024 USPSA MK Battery Conference Cup Championship Series
DESCRIPTION:
URL:https://unitedadaptivesoccer.com/event/2024-uspsa-mk-battery-conference-cup-championship-series/
LOCATION:Turnstone (Plassman Athletic Center)\, 3320 N Clinton St\, Fort Wayne\, IN\, 46805\, United States
CATEGORIES:USPSA Event
ORGANIZER;CN="United States Power Soccer Association (USPSA)":MAILTO:steve@powersoccerusa.org
END:VEVENT
END:VCALENDAR