BEGIN:VCALENDAR
VERSION:2.0
PRODID:-//United Adaptive Soccer Association - ECPv6.15.20//NONSGML v1.0//EN
CALSCALE:GREGORIAN
METHOD:PUBLISH
X-WR-CALNAME:United Adaptive Soccer Association
X-ORIGINAL-URL:https://unitedadaptivesoccer.com
X-WR-CALDESC:Events for United Adaptive Soccer Association
REFRESH-INTERVAL;VALUE=DURATION:PT1H
X-Robots-Tag:noindex
X-PUBLISHED-TTL:PT1H
BEGIN:VTIMEZONE
TZID:America/Los_Angeles
BEGIN:DAYLIGHT
TZOFFSETFROM:-0800
TZOFFSETTO:-0700
TZNAME:PDT
DTSTART:20240310T100000
END:DAYLIGHT
BEGIN:STANDARD
TZOFFSETFROM:-0700
TZOFFSETTO:-0800
TZNAME:PST
DTSTART:20241103T090000
END:STANDARD
BEGIN:DAYLIGHT
TZOFFSETFROM:-0800
TZOFFSETTO:-0700
TZNAME:PDT
DTSTART:20250309T100000
END:DAYLIGHT
BEGIN:STANDARD
TZOFFSETFROM:-0700
TZOFFSETTO:-0800
TZNAME:PST
DTSTART:20251102T090000
END:STANDARD
BEGIN:DAYLIGHT
TZOFFSETFROM:-0800
TZOFFSETTO:-0700
TZNAME:PDT
DTSTART:20260308T100000
END:DAYLIGHT
BEGIN:STANDARD
TZOFFSETFROM:-0700
TZOFFSETTO:-0800
TZNAME:PST
DTSTART:20261101T090000
END:STANDARD
END:VTIMEZONE
BEGIN:VEVENT
DTSTART;VALUE=DATE:20251013
DTEND;VALUE=DATE:20251017
DTSTAMP:20260423T131012
CREATED:20250918T152401Z
LAST-MODIFIED:20250918T152401Z
UID:3198-1760313600-1760659199@unitedadaptivesoccer.com
SUMMARY:TEAMS Conference + Expo
DESCRIPTION:TEAMS: TRAVEL\, EVENTS AND MANAGEMENT IN SPORTS\, is the world’s leading conference and expo for the sports-event industry. \nPresented by SportsTravel\, and hosted by the Greater Columbus Sports Commission\, TEAMS ’25 will be held October 13–16 in Columbus\, Ohio. Launched in 1998\, TEAMS draws more than 1\,300 participants including CEOs\, executive directors and event managers from sports organizations as well as representatives from sports commissions and convention bureaus\, corporate sponsors\, event suppliers and other hospitality industry opinion leaders. For more than 25 years\, TEAMS has helped define the sports-event and appointment-based trade show industries.
URL:https://unitedadaptivesoccer.com/event/teams-conference-expo/
LOCATION:Greater Columbus Convention Center\, 400 N High St\, Columbus\, OH\, 43215\, United States
CATEGORIES:TEAMS
ATTACH;FMTTYPE=image/jpeg:https://unitedadaptivesoccer.com/wp-content/uploads/2025/09/919A4993-scaled.jpg
END:VEVENT
END:VCALENDAR