BEGIN:VCALENDAR
VERSION:2.0
PRODID:-//United Adaptive Soccer Association - ECPv6.15.20//NONSGML v1.0//EN
CALSCALE:GREGORIAN
METHOD:PUBLISH
X-WR-CALNAME:United Adaptive Soccer Association
X-ORIGINAL-URL:https://unitedadaptivesoccer.com
X-WR-CALDESC:Events for United Adaptive Soccer Association
REFRESH-INTERVAL;VALUE=DURATION:PT1H
X-Robots-Tag:noindex
X-PUBLISHED-TTL:PT1H
BEGIN:VTIMEZONE
TZID:America/Los_Angeles
BEGIN:DAYLIGHT
TZOFFSETFROM:-0800
TZOFFSETTO:-0700
TZNAME:PDT
DTSTART:20250309T100000
END:DAYLIGHT
BEGIN:STANDARD
TZOFFSETFROM:-0700
TZOFFSETTO:-0800
TZNAME:PST
DTSTART:20251102T090000
END:STANDARD
BEGIN:DAYLIGHT
TZOFFSETFROM:-0800
TZOFFSETTO:-0700
TZNAME:PDT
DTSTART:20260308T100000
END:DAYLIGHT
BEGIN:STANDARD
TZOFFSETFROM:-0700
TZOFFSETTO:-0800
TZNAME:PST
DTSTART:20261101T090000
END:STANDARD
BEGIN:DAYLIGHT
TZOFFSETFROM:-0800
TZOFFSETTO:-0700
TZNAME:PDT
DTSTART:20270314T100000
END:DAYLIGHT
BEGIN:STANDARD
TZOFFSETFROM:-0700
TZOFFSETTO:-0800
TZNAME:PST
DTSTART:20271107T090000
END:STANDARD
END:VTIMEZONE
BEGIN:VEVENT
DTSTART;TZID=America/Los_Angeles:20260420T080000
DTEND;TZID=America/Los_Angeles:20260423T170000
DTSTAMP:20260423T074509
CREATED:20260406T224723Z
LAST-MODIFIED:20260406T224723Z
UID:6293-1776672000-1776963600@unitedadaptivesoccer.com
SUMMARY:Sports ETA Symposium
DESCRIPTION:The Sports ETA Symposium is the premier annual gathering of the Sports Events & Tourism Association\, bringing together leaders from across the sports tourism industry for education\, networking\, and business development. Taking place April 20–23\, 2026 in Las Vegas\, Nevada\, the event is expected to host over 1\,000 industry professionals\, including destination leaders\, event rights holders\, and sports organizations. \n\n\n\nThe symposium serves as a central hub for collaboration and innovation within the sports events and tourism sector. Attendees participate in dozens of educational sessions\, one-on-one marketplace appointments\, and high-impact networking opportunities\, all designed to foster partnerships\, share best practices\, and drive economic impact through sport. \n\n\n\nThroughout the week\, participants gain insights into emerging trends\, destination strategy\, and event hosting while building relationships that shape the future of sports tourism. The event is widely recognized as one of the industry’s most influential gatherings\, offering a unique environment where decision-makers connect and business opportunities are created. \n\n\n\nAt the 2026 Symposium\, the United Adaptive Soccer Association (UASA) will be represented by leadership\, with Joslynn Bigelow (President) and Michel Tume (Vice President) scheduled to speak\, contributing perspectives on adaptive sport and inclusive growth within the sports tourism landscape.
URL:https://unitedadaptivesoccer.com/event/sports-eta-conference/
LOCATION:Las Vegas\, NV
ATTACH;FMTTYPE=image/jpeg:https://unitedadaptivesoccer.com/wp-content/uploads/2026/04/USSFJA02192026221-1-e1775515593929.jpeg
ORGANIZER;CN="Sports ETA":MAILTO:Info@SportsETA.org
END:VEVENT
END:VCALENDAR