BEGIN:VCALENDAR
VERSION:2.0
PRODID:-//United Adaptive Soccer Association - ECPv6.15.20//NONSGML v1.0//EN
CALSCALE:GREGORIAN
METHOD:PUBLISH
X-WR-CALNAME:United Adaptive Soccer Association
X-ORIGINAL-URL:https://unitedadaptivesoccer.com
X-WR-CALDESC:Events for United Adaptive Soccer Association
REFRESH-INTERVAL;VALUE=DURATION:PT1H
X-Robots-Tag:noindex
X-PUBLISHED-TTL:PT1H
BEGIN:VTIMEZONE
TZID:America/Los_Angeles
BEGIN:DAYLIGHT
TZOFFSETFROM:-0800
TZOFFSETTO:-0700
TZNAME:PDT
DTSTART:20250309T100000
END:DAYLIGHT
BEGIN:STANDARD
TZOFFSETFROM:-0700
TZOFFSETTO:-0800
TZNAME:PST
DTSTART:20251102T090000
END:STANDARD
BEGIN:DAYLIGHT
TZOFFSETFROM:-0800
TZOFFSETTO:-0700
TZNAME:PDT
DTSTART:20260308T100000
END:DAYLIGHT
BEGIN:STANDARD
TZOFFSETFROM:-0700
TZOFFSETTO:-0800
TZNAME:PST
DTSTART:20261101T090000
END:STANDARD
BEGIN:DAYLIGHT
TZOFFSETFROM:-0800
TZOFFSETTO:-0700
TZNAME:PDT
DTSTART:20270314T100000
END:DAYLIGHT
BEGIN:STANDARD
TZOFFSETFROM:-0700
TZOFFSETTO:-0800
TZNAME:PST
DTSTART:20271107T090000
END:STANDARD
END:VTIMEZONE
BEGIN:VEVENT
DTSTART;TZID=America/Los_Angeles:20260219T080000
DTEND;TZID=America/Los_Angeles:20260222T170000
DTSTAMP:20260423T103604
CREATED:20251230T103350Z
LAST-MODIFIED:20251230T103353Z
UID:5020-1771488000-1771779600@unitedadaptivesoccer.com
SUMMARY:U.S. Soccer AGM
DESCRIPTION:The U.S. Soccer Annual General Meeting (AGM) is the Federation’s premier annual governance event\, bringing together member organizations\, leaders\, councils\, and stakeholders from across the U.S. soccer ecosystem. The 2026 AGM will take place February 19–22\, 2026 at The Westin Peachtree Plaza in Atlanta\, GA. U.S. Soccer AGM+1 \n\n\n\nDesigned for delegates\, alternates\, guests\, and community partners\, the AGM features a full schedule of learning sessions\, council meetings\, governance discussions\, and collaborative forums focused on key topics shaping the sport’s future. Highlights include virtual bylaw and budget Q&As\, the U.S. Soccer Sports Career Summit powered by The Coca-Cola Foundation\, learning booths\, regional and national council meetings\, leadership workshops\, and the National Council Meeting. \n\n\n\nThe AGM is also the platform where member organizations engage in strategic planning\, financial and governance transparency\, and decision-making that impacts soccer at all levels across the country. Registration is open through January 21\, and accommodations are available through the event’s passkey booking.
URL:https://unitedadaptivesoccer.com/event/u-s-soccer-agm/
END:VEVENT
END:VCALENDAR